BEGIN:VCALENDAR
VERSION:2.0
PRODID:-//Maranatha Camp and Conference Center - ECPv6.15.0.1//NONSGML v1.0//EN
CALSCALE:GREGORIAN
METHOD:PUBLISH
X-WR-CALNAME:Maranatha Camp and Conference Center
X-ORIGINAL-URL:https://maranatha.camp
X-WR-CALDESC:Events for Maranatha Camp and Conference Center
REFRESH-INTERVAL;VALUE=DURATION:PT1H
X-Robots-Tag:noindex
X-PUBLISHED-TTL:PT1H
BEGIN:VTIMEZONE
TZID:UTC
BEGIN:STANDARD
TZOFFSETFROM:+0000
TZOFFSETTO:+0000
TZNAME:UTC
DTSTART:20230101T000000
END:STANDARD
END:VTIMEZONE
BEGIN:VTIMEZONE
TZID:America/Chicago
BEGIN:DAYLIGHT
TZOFFSETFROM:-0600
TZOFFSETTO:-0500
TZNAME:CDT
DTSTART:20230312T080000
END:DAYLIGHT
BEGIN:STANDARD
TZOFFSETFROM:-0500
TZOFFSETTO:-0600
TZNAME:CST
DTSTART:20231105T070000
END:STANDARD
END:VTIMEZONE
BEGIN:VEVENT
DTSTART;TZID=UTC:20240420T100000
DTEND;TZID=UTC:20240420T160000
DTSTAMP:20260424T071721
CREATED:20240322T171406Z
LAST-MODIFIED:20240322T171746Z
UID:1709-1713607200-1713628800@maranatha.camp
SUMMARY:Camp Day Open House
DESCRIPTION:It’s back! This year\, we’re kicking off 2024 with an open house for new campers (and their parents) and all our awesome alumni and supporters! Come check out camp and meet the staff\, plus see the exciting new renovations to the Dining Hall and other camp facilities before summer!\nSee firsthand what Overnight and Day camp at Maranatha is all about – and why we’ve been featured by Rocket City Mom for 6 straight years!\n\nEveryone is invited! Bring your family for some outdoor fun at this come-and-go event! Lots of favorite camp activities like ropes elements\, games\, hikes\, lake activities\, and more will be available for campers and parents to experience together.\nMark your calendars for Saturday\, April 20th; we’ll see you there!\nRSVP on FACEBOOK
URL:https://maranatha.camp/event/camp-day-open-house/
LOCATION:Camp Maranatha\, 1091 Jeffrey Rd\, Scottsboro\, AL\, 35769\, United States
END:VEVENT
BEGIN:VEVENT
DTSTART;TZID=UTC:20240217T080000
DTEND;TZID=UTC:20240217T100000
DTSTAMP:20260424T071721
CREATED:20231114T022828Z
LAST-MODIFIED:20240119T015703Z
UID:1576-1708156800-1708164000@maranatha.camp
SUMMARY:Frigid 5k & Polar Plunge
DESCRIPTION:
URL:https://maranatha.camp/event/frigid-5k-polar-plunge/
LOCATION:Camp Maranatha\, 1091 Jeffrey Rd\, Scottsboro\, AL\, 35769\, United States
ATTACH;FMTTYPE=image/png:https://maranatha.camp/wp-content/uploads/2023/11/810x315-1698865204-20231101135958-frigid205k371.png
END:VEVENT
BEGIN:VEVENT
DTSTART;VALUE=DATE:20230604
DTEND;VALUE=DATE:20230611
DTSTAMP:20260424T071721
CREATED:20230510T134728Z
LAST-MODIFIED:20230510T134802Z
UID:1445-1685836800-1686441599@maranatha.camp
SUMMARY:Summer Camp - Week 1
DESCRIPTION:We can’t wait to see you at Summer Camp this year! Learn more about camps and register today at https://maranatha.camp/camp-schedule/
URL:https://maranatha.camp/event/summer-camp-week-1/
LOCATION:Camp Maranatha\, 1091 Jeffrey Rd\, Scottsboro\, AL\, 35769\, United States
CATEGORIES:All Events,Event in Slider
END:VEVENT
BEGIN:VEVENT
DTSTART;TZID=America/Chicago:20230509T160000
DTEND;TZID=America/Chicago:20230509T190000
DTSTAMP:20260424T071721
CREATED:20230502T160112Z
LAST-MODIFIED:20230510T132450Z
UID:1439-1683648000-1683658800@maranatha.camp
SUMMARY:Meet & Greet with New Executive Director - Micah Beard!
DESCRIPTION:All supporters\, donors\, volunteers\, camper families\, friends\, and alumni are invited to a meet and greet with new Executive Director\, Micah Beard and his family. Come enjoy an opportunity to meet them and hear about the exciting things God is doing at camp! Reconnect with other Maranatha Alumni & Supporters at Yellowhammer Brewing’s back patio from 4-7pm.\nEarth and Stone Wood Fired Pizza and Yellowhammer Brewing beverages will be available for purchase.\nA bit about Micah:\nMicah Beard comes to Camp Maranatha from Palomar Christian Conference Center located on Palomar Mountain\, CA. Micah has been in camp ministry since 1996. He attended Sam Houston State University\, which is where his relationship with Christ grew and his love for camp began. Micah first started camp ministry at Forest Glen Christian Camp where he served Christ in many roles. After 10 years\, he felt God lay on his heart to be a children’s pastor at The Woodlands Church in The Woodlands\, TX. As a children’s pastor he shared God’s word\, led a ministry team\, and helped the church plant satellite churches around the Houston area. After two years at the church\, Micah again felt a calling to do camp ministry. He became a director at Carolina Creek Christian Camp in Huntsville\, TX. As director he oversaw summer staff for program camps\, helped develop and build a new camp facility\, directed the year-round retreat program\, and served in many other leadership areas. In his most recent role as Executive Director of Palomar Christian Conference Center\, Micah oversaw camp operations and led a team of incredible camp ministry servants. He is active in both fundraising and board development. Micah has a passion for God’s word and wants to share God’s love with everyone he meets. He believes that lives are changed through camp. Micah is married to Jana\, his wife of 23 years and they have two incredible children\, Grace and Benjamin.
URL:https://maranatha.camp/event/meet-greet-with-new-executive-director-micah-beard/
LOCATION:AL
ATTACH;FMTTYPE=image/jpeg:https://maranatha.camp/wp-content/uploads/2023/01/micah-resized.jpg
END:VEVENT
END:VCALENDAR